BEGIN:VCALENDAR
VERSION:2.0
PRODID:icalendar-ruby
CALSCALE:GREGORIAN
METHOD:PUBLISH
BEGIN:VEVENT
DTSTAMP:20260420T024135Z
UID:17-381781@exeterbfc.org
DTSTART;VALUE=DATE:20260425
DTEND;VALUE=DATE:20260425
CLASS:PUBLIC
CREATED:20260403T115949
DESCRIPTION:We are planning a “Spring Clean-Up Day” for Saturday\, A
 pril 25th\, to clean up\, dress up\, and generally beautify the church pr
 operty. We'll be working for a few hours\, but starting at 8am. If you are
  able to help\, we will be doing mostly outdoor work around the property: 
 mulching\, weeding\, trimming\, etc to help prepare for the growth of the 
 spring season. You can signup so that we can keep you updated on any chang
 es.
LAST-MODIFIED:20260403T115949
LOCATION:
SUMMARY:Spring Clean-Up Work Day
URL;VALUE=URI:https://www.exeterbfc.org/events/spring-clean-up-work-day/202
 6-04-25
ATTACH;FILENAME=Spring-Cleanup-1.jpg;FMTTYPE=image/jpeg:https://dq5pwpg1q8r
 u0.cloudfront.net/2026/04/03/18/59/48/79ed77b4-aeb6-4c8e-8adc-98cf78668f80
 /Spring-Cleanup-1.jpg
END:VEVENT
END:VCALENDAR
